BEGIN:VCALENDAR
VERSION:2.0
PRODID:-//GitLab//NONSGML GitLab//EN
CALSCALE:GREGORIAN
X-WR-CALNAME:GitLab Issues
BEGIN:VEVENT
DTSTAMP:20260419T202036Z
UID:7598299e-daa2-4aa8-a23f-347066e4994a
DTSTART;VALUE=DATE:20200317
DESCRIPTION:Find out more at https://source.mygood.at/ohonig/azeero.group/-
 /issues/266
SUMMARY:User-Vorschlag für Bestell-e-mail (in ohonig/azeero.group)
TRANSP:TRANSPARENT
URL:https://source.mygood.at/ohonig/azeero.group/-/issues/266
END:VEVENT
BEGIN:VEVENT
DTSTAMP:20260419T202036Z
UID:97cd01f4-7223-4f1c-928c-921abaa9e0c8
DTSTART;VALUE=DATE:20200317
DESCRIPTION:Find out more at https://source.mygood.at/ohonig/azeero.group/-
 /issues/265
SUMMARY:Anrede in E-mails: ohne Geschlecht (in ohonig/azeero.group)
TRANSP:TRANSPARENT
URL:https://source.mygood.at/ohonig/azeero.group/-/issues/265
END:VEVENT
BEGIN:VEVENT
DTSTAMP:20260419T202036Z
UID:ae7d04a1-5b0a-4dd2-8b13-c5911faa6b69
DTSTART;VALUE=DATE:20200305
DESCRIPTION:Find out more at https://source.mygood.at/ohonig/azeero.group/-
 /issues/260
SUMMARY:CollectiveOrderMail: zusätzlich E-mail mit konsolidierten Mengen (
 in ohonig/azeero.group)
TRANSP:TRANSPARENT
URL:https://source.mygood.at/ohonig/azeero.group/-/issues/260
END:VEVENT
BEGIN:VEVENT
DTSTAMP:20260419T202036Z
UID:bd3447bc-6d34-4f39-979f-ce29dc89eb24
DTSTART;VALUE=DATE:20200228
DESCRIPTION:Find out more at https://source.mygood.at/ohonig/azeero.group/-
 /issues/259
SUMMARY:Rechnungsdruck durch Käufer in MyGood ermöglichen (in ohonig/azee
 ro.group)
TRANSP:TRANSPARENT
URL:https://source.mygood.at/ohonig/azeero.group/-/issues/259
END:VEVENT
BEGIN:VEVENT
DTSTAMP:20260419T202036Z
UID:a8001a39-fc59-4af6-a812-2dc533896c95
DTSTART;VALUE=DATE:20200314
DESCRIPTION:Find out more at https://source.mygood.at/ohonig/azeero.group/-
 /issues/258
SUMMARY:Rechnungs-Email: Verbesserungen (in ohonig/azeero.group)
TRANSP:TRANSPARENT
URL:https://source.mygood.at/ohonig/azeero.group/-/issues/258
END:VEVENT
END:VCALENDAR

